BEGIN:VCALENDAR
VERSION:2.0
PRODID:-//Royal American Links - ECPv6.15.18//NONSGML v1.0//EN
CALSCALE:GREGORIAN
METHOD:PUBLISH
X-ORIGINAL-URL:https://www.royalamericanlinks.com
X-WR-CALDESC:Events for Royal American Links
REFRESH-INTERVAL;VALUE=DURATION:PT1H
X-Robots-Tag:noindex
X-PUBLISHED-TTL:PT1H
BEGIN:VTIMEZONE
TZID:UTC
BEGIN:STANDARD
TZOFFSETFROM:+0000
TZOFFSETTO:+0000
TZNAME:UTC
DTSTART:20250101T000000
END:STANDARD
END:VTIMEZONE
BEGIN:VEVENT
DTSTART;TZID=UTC:20260602T090000
DTEND;TZID=UTC:20260602T110000
DTSTAMP:20260421T103252
CREATED:20260214T181703Z
LAST-MODIFIED:20260214T182724Z
UID:1598-1780390800-1780398000@www.royalamericanlinks.com
SUMMARY:Junior Golf Camp
DESCRIPTION:Royal American Links Junior Clinic \n8 Participants Max Per Session – Ages 7-14 \nMonday – Thursday – 9am – 11am \n$225 Per Student \nWe recommend bringing your own junior clubs for the clinic\, though we will have a limited number of clubs to borrow. \nRegister: HERE
URL:https://www.royalamericanlinks.com/event/junior-golf-camp-june-1-4-monday-thursday-9am-11am-225-2/
ATTACH;FMTTYPE=image/png:https://www.royalamericanlinks.com/wp-content/uploads/sites/8861/2026/02/RAL-2026-Junior-Golf-Camps.png
END:VEVENT
BEGIN:VEVENT
DTSTART;TZID=UTC:20260603T090000
DTEND;TZID=UTC:20260603T110000
DTSTAMP:20260421T103252
CREATED:20260214T181807Z
LAST-MODIFIED:20260214T182800Z
UID:1600-1780477200-1780484400@www.royalamericanlinks.com
SUMMARY:Junior Golf Camp
DESCRIPTION:Royal American Links Junior Clinic \n8 Participants Max Per Session – Ages 7-14 \nMonday – Thursday – 9am – 11am \n$225 Per Student \nWe recommend bringing your own junior clubs for the clinic\, though we will have a limited number of clubs to borrow. \nRegister: HERE
URL:https://www.royalamericanlinks.com/event/junior-golf-camp-june-1-4-monday-thursday-9am-11am-225-3/
ATTACH;FMTTYPE=image/png:https://www.royalamericanlinks.com/wp-content/uploads/sites/8861/2026/02/RAL-2026-Junior-Golf-Camps.png
END:VEVENT
BEGIN:VEVENT
DTSTART;TZID=UTC:20260604T090000
DTEND;TZID=UTC:20260604T110000
DTSTAMP:20260421T103252
CREATED:20260214T181907Z
LAST-MODIFIED:20260214T182844Z
UID:1602-1780563600-1780570800@www.royalamericanlinks.com
SUMMARY:Junior Golf Camp
DESCRIPTION:Royal American Links Junior Clinic \n8 Participants Max Per Session – Ages 7-14 \nMonday – Thursday – 9am – 11am \n$225 Per Student \nWe recommend bringing your own junior clubs for the clinic\, though we will have a limited number of clubs to borrow. \nRegister: HERE
URL:https://www.royalamericanlinks.com/event/junior-golf-camp-june-1-4-monday-thursday-9am-11am-225-4/
ATTACH;FMTTYPE=image/png:https://www.royalamericanlinks.com/wp-content/uploads/sites/8861/2026/02/RAL-2026-Junior-Golf-Camps.png
END:VEVENT
BEGIN:VEVENT
DTSTART;TZID=UTC:20260706T090000
DTEND;TZID=UTC:20260706T110000
DTSTAMP:20260421T103252
CREATED:20260214T182246Z
LAST-MODIFIED:20260214T182921Z
UID:1604-1783328400-1783335600@www.royalamericanlinks.com
SUMMARY:Junior Golf Camp
DESCRIPTION:Royal American Links Junior Clinic \n8 Participants Max Per Session – Ages 7-14 \nMonday – Thursday – 9am – 11am \n$225 Per Student \nWe recommend bringing your own junior clubs for the clinic\, though we will have a limited number of clubs to borrow. \nRegister: HERE
URL:https://www.royalamericanlinks.com/event/junior-golf-camp-july-6-9-monday-thursday-9am-11am-225/
ATTACH;FMTTYPE=image/png:https://www.royalamericanlinks.com/wp-content/uploads/sites/8861/2026/02/RAL-2026-Junior-Golf-Camps.png
END:VEVENT
BEGIN:VEVENT
DTSTART;TZID=UTC:20260707T090000
DTEND;TZID=UTC:20260707T110000
DTSTAMP:20260421T103252
CREATED:20260214T182352Z
LAST-MODIFIED:20260214T183004Z
UID:1606-1783414800-1783422000@www.royalamericanlinks.com
SUMMARY:Junior Golf Camp
DESCRIPTION:Royal American Links Junior Clinic \n8 Participants Max Per Session – Ages 7-14 \nMonday – Thursday – 9am – 11am \n$225 Per Student \nWe recommend bringing your own junior clubs for the clinic\, though we will have a limited number of clubs to borrow. \nRegister: HERE
URL:https://www.royalamericanlinks.com/event/junior-golf-camp-july-6-9-monday-thursday-9am-11am-225-2/
ATTACH;FMTTYPE=image/png:https://www.royalamericanlinks.com/wp-content/uploads/sites/8861/2026/02/RAL-2026-Junior-Golf-Camps.png
END:VEVENT
BEGIN:VEVENT
DTSTART;TZID=UTC:20260708T090000
DTEND;TZID=UTC:20260708T110000
DTSTAMP:20260421T103252
CREATED:20260214T182449Z
LAST-MODIFIED:20260214T183039Z
UID:1608-1783501200-1783508400@www.royalamericanlinks.com
SUMMARY:Junior Golf Camp
DESCRIPTION:Royal American Links Junior Clinic \n8 Participants Max Per Session – Ages 7-14 \nMonday – Thursday – 9am – 11am \n$225 Per Student \nWe recommend bringing your own junior clubs for the clinic\, though we will have a limited number of clubs to borrow. \nRegister: HERE
URL:https://www.royalamericanlinks.com/event/junior-golf-camp-july-6-9-monday-thursday-9am-11am-225-3/
ATTACH;FMTTYPE=image/png:https://www.royalamericanlinks.com/wp-content/uploads/sites/8861/2026/02/RAL-2026-Junior-Golf-Camps.png
END:VEVENT
BEGIN:VEVENT
DTSTART;TZID=UTC:20260709T090000
DTEND;TZID=UTC:20260709T110000
DTSTAMP:20260421T103252
CREATED:20260214T182600Z
LAST-MODIFIED:20260214T183110Z
UID:1610-1783587600-1783594800@www.royalamericanlinks.com
SUMMARY:Junior Golf Camp
DESCRIPTION:Royal American Links Junior Clinic \n8 Participants Max Per Session – Ages 7-14 \nMonday – Thursday – 9am – 11am \n$225 Per Student \nWe recommend bringing your own junior clubs for the clinic\, though we will have a limited number of clubs to borrow. \nRegister: HERE
URL:https://www.royalamericanlinks.com/event/junior-golf-camp-july-6-9-monday-thursday-9am-11am-225-4/
ATTACH;FMTTYPE=image/png:https://www.royalamericanlinks.com/wp-content/uploads/sites/8861/2026/02/RAL-2026-Junior-Golf-Camps.png
END:VEVENT
END:VCALENDAR